BEGIN:VCALENDAR
VERSION:2.0
PRODID:-//Squarespace Inc/Squarespace 6//v6//EN
BEGIN:VEVENT
UID:578510c93e00be6243f13892@squarespace.com
DTSTAMP:20160726T171547Z
DTSTART:20160808T180000Z
DTEND:20160808T210000Z
SUMMARY:Official RBC Launch
GEO:-27.451132;153.037586
LOCATION:Lightspace\, 30 Light Street\, Fortitude Valley\, QLD\, 4006\, Aus
 tralia
END:VEVENT
END:VCALENDAR
