BEGIN:VCALENDAR
VERSION:2.0
PRODID:-//Squarespace Inc/Squarespace 6//v6//EN
BEGIN:VEVENT
UID:586bb7c7893fc03b1403b65e@squarespace.com
DTSTAMP:20170103T144944Z
DTSTART:20170201T150000Z
DTEND:20170222T160000Z
SUMMARY:Business Spring Clean
END:VEVENT
END:VCALENDAR
