BEGIN:VCALENDAR
VERSION:2.0
PRODID:-//Squarespace Inc/Squarespace 6//v6//EN
BEGIN:VEVENT
UID:5924423e1e5b6cc39e6b10b1@squarespace.com
DTSTAMP:20170523T141721Z
DTSTART:20170627T223000Z
DTEND:20170629T013000Z
SUMMARY:Regional Pitchfest QLD Finals
END:VEVENT
END:VCALENDAR
