BEGIN:VCALENDAR
VERSION:2.0
PRODID:-//Squarespace Inc/Squarespace 6//v6//EN
BEGIN:VEVENT
UID:596ebbfc893fc01a2966829d@squarespace.com
DTSTAMP:20170818T061020Z
DTSTART:20170904T120000Z
DTEND:20170904T130000Z
SUMMARY:30 DAY CHALLENGE - Run your business by the numbers
END:VEVENT
END:VCALENDAR
