BEGIN:VCALENDAR
VERSION:2.0
PRODID:-//Squarespace Inc/Squarespace 6//v6//EN
BEGIN:VEVENT
UID:596ebb7fd482e9ec36a6074e@squarespace.com
DTSTAMP:20170719T020657Z
DTSTART:20170804T163000Z
DTEND:20170804T170000Z
SUMMARY:Lunch & Learn - Be a Task Master
END:VEVENT
END:VCALENDAR
