BEGIN:VCALENDAR
VERSION:2.0
PRODID:-//Squarespace Inc/Squarespace 6//v6//EN
BEGIN:VEVENT
UID:596ebab13e00be1e7ef70ab8@squarespace.com
DTSTAMP:20170719T015245Z
DTSTART:20170901T130000Z
DTEND:20170901T140000Z
SUMMARY:90 Day Plan
END:VEVENT
END:VCALENDAR
