BEGIN:VCALENDAR
VERSION:2.0
PRODID:-//Squarespace Inc/Squarespace 6//v6//EN
BEGIN:VEVENT
UID:57deaf2e5016e1d6372094b8@squarespace.com
DTSTAMP:20160918T152711Z
DTSTART:20161027T130000Z
DTEND:20161028T200000Z
SUMMARY:RBC Toolkit Tour - Emerald
GEO:-23.525998;148.145749
LOCATION:CHDC Meeting Room - Emerald Showgrounds\, Capricorn Highway\, Emer
 ald\, QLD\, Australia
END:VEVENT
END:VCALENDAR
