BEGIN:VCALENDAR
VERSION:2.0
PRODID:-//Squarespace Inc/Squarespace 6//v6//EN
BEGIN:VEVENT
UID:57dead08ff7c5017de0883cc@squarespace.com
DTSTAMP:20160930T060956Z
DTSTART:20161011T130000Z
DTEND:20161011T140000Z
SUMMARY:RBC Toolkit Tour - Goondiwindi
GEO:-28.537296;150.295749
LOCATION:Gateway to Training\, 15-21 Russell Street\, Goondiwindi\, QLD\, 4
 390\, Australia
END:VEVENT
END:VCALENDAR
