BEGIN:VCALENDAR
VERSION:2.0
PRODID:-//Squarespace Inc/Squarespace 6//v6//EN
BEGIN:VEVENT
UID:57deb0b8ebbd1a8e834d64da@squarespace.com
DTSTAMP:20160918T152845Z
DTSTART:20161123T140000Z
DTEND:20161124T210000Z
SUMMARY:RBC Toolkit Tour - Longreach
GEO:-23.356078;144.184844
LOCATION:Stockman's Hall fo Fame\, Landsborough Highway\, Longreach\, QLD\, 
 4730\, Australia
END:VEVENT
END:VCALENDAR
