BEGIN:VCALENDAR
VERSION:2.0
PRODID:-//Squarespace Inc/Squarespace 6//v6//EN
BEGIN:VEVENT
UID:57deae86f5e23162d7d1c379@squarespace.com
DTSTAMP:20160918T152619Z
DTSTART:20161019T130000Z
DTEND:20161020T200000Z
SUMMARY:RBC Toolkit Tour - Roma
GEO:-26.571208;148.788655
LOCATION:Royal on Ninety-Nine\, 99 McDowall Street\, Roma\, QLD\, 4455\, Au
 stralia
END:VEVENT
END:VCALENDAR
