BEGIN:VCALENDAR
VERSION:2.0
PRODID:-//Squarespace Inc/Squarespace 6//v6//EN
BEGIN:VEVENT
UID:57deb0032e69cf9a7ae63677@squarespace.com
DTSTAMP:20160918T152754Z
DTSTART:20161109T140000Z
DTEND:20161110T210000Z
SUMMARY:RBC Toolkit Tour - St George
GEO:40.720756;-74.000761
LOCATION:St George
END:VEVENT
END:VCALENDAR
